Workbook

Sheet Statistiken
A1: Statistiken aller Bushaltestellen in der Stadt Groß-Gerau | E1: Stand
E2: 45721
A3: Spalte1 | B3: Bushaltestellen | C3: Barrierefreiheit | D3: Sitzgelegenheit | E3: Witterungsschutz
A4: Dornheim | B4: =SUM(Dornheim!A14) -> 11 | C4: =SUM(Dornheim!B14) -> 0 | D4: =SUM(Dornheim!C14) -> 5 | E4: =SUM(Dornheim!D14) -> 6
A5: Prozente | C5: =C4/B4 -> 0 | D5: =D4/B4 -> 0.45454545 | E5: =E4/B4 -> 0.54545455
A6: Berkach, Esch, Dornberg | B6: =COUNTA(Tabelle137[[Haltestelle]]) -> 25 | C6: =COUNTIF(Tabelle137[[Barrierefreiheit]],"ja") -> 12 | D6: =COUNTIF(Tabelle137[[Sitzgelegenheit]],"ja") -> 18 | E6: =COUNTIF(Tabelle137[[Witterungsschutz]],"ja") -> 17
A7: Prozente | C7: =C6/B6 -> 0.48 | D7: =D6/B6 -> 0.72 | E7: =E6/B6 -> 0.68
A8: Wallerstädten | B8: =SUM(Wallerstädten!A11) -> 8 | C8: =SUM(Wallerstädten!B11) -> 0 | D8: =SUM(Wallerstädten!C11) -> 2 | E8: =SUM(Wallerstädten!D11) -> 2
A9: Prozente | C9: =C8/B8 -> 0 | D9: =D8/B8 -> 0.25 | E9: =E8/B8 -> 0.25
A10: Kernstadt | B10: =SUM(Kernstadt!A30) -> 27 | C10: =SUM(Kernstadt!B30) -> 11 | D10: =SUM(Kernstadt!C30) -> 14 | E10: =SUM(Kernstadt!D30) -> 13
A11: Prozente | C11: =C10/B10 -> 0.40740741 | D11: =D10/B10 -> 0.51851852 | E11: =E10/B10 -> 0.48148148
A12: Siedlung | B12: =SUM(Siedlung!A14) -> 11 | C12: =SUM(Siedlung!B14) -> 3 | D12: =SUM(Siedlung!C14) -> 5 | E12: =SUM(Siedlung!D14) -> 5
A13: Prozente | C13: =C12/B12 -> 0.27272727 | D13: =D12/B12 -> 0.45454545 | E13: =E12/B12 -> 0.45454545
A14: Summe | B14: =SUBTOTAL(109,B4:B13) -> 82 | C14: =C4+C6+C8+C10+C12 -> 26 | D14: =D4+D6+D8+D10+D12 -> 44 | E14: =E4+E6+E8+E10+E12 -> 43
A15: Prozente | C15: =C14/B14 -> 0.31707317 | D15: =D14/B14 -> 0.53658537 | E15: =E14/B14 -> 0.52439024

Sheet Dornheim
A1: Bushaltestellen Dornheim
A2: Haltestelle | B2: Barrierefreiheit | C2: Sitzgelegenheit | D2: Witterungsschutz | E2: Foto | F2: Link Google Maps | G2: Prio | H2: Anmerkungen
A3: Heißfeldstraße (R. GG) | B3: nein | C3: ja | D3: ja | E3: ja | F3: https://www.google.de/maps/@49.8801176,8.4857821,3a,75y,8.81h,75.85t/data=!3m7!1e1!3m5!1sj6C1PySeduM9r08LpZ5nyg!2e0!6shttps:%2F%2Fstreetviewpixels-pa.googleapis.com%2Fv1%2Fthumbnail%3Fpanoid%3Dj6C1PySeduM9r08LpZ5nyg%26cb_client%3Dsearch.gws-prod.gps%26w%3D86%26h%3D86%26yaw%3D325.98785%26pitch%3D0%26thumbfov%3D100!7i16384!8i8192?entry=ttu | G3: 3
A4: Heißfeldstraße (R. Leeheim) | B4: nein | C4: nein | D4: nein | E4: ja | F4: https://www.google.de/maps/@49.8801176,8.4857821,3a,75y,8.81h,75.85t/data=!3m7!1e1!3m5!1sj6C1PySeduM9r08LpZ5nyg!2e0!6shttps:%2F%2Fstreetviewpixels-pa.googleapis.com%2Fv1%2Fthumbnail%3Fpanoid%3Dj6C1PySeduM9r08LpZ5nyg%26cb_client%3Dsearch.gws-prod.gps%26w%3D86%26h%3D86%26yaw%3D325.98785%26pitch%3D0%26thumbfov%3D100!7i16384!8i8192?entry=ttu | G4: 3
A5: Donaustraße (R. Leeheim) | B5: nein | C5: nein | D5: nein | E5: ja | F5: https://www.google.de/maps/@49.8786575,8.4818182,3a,75y,2.06h,90t/data=!3m7!1e1!3m5!1sdNkfRnc8YB_DBgpGh0S7dw!2e0!6shttps:%2F%2Fstreetviewpixels-pa.googleapis.com%2Fv1%2Fthumbnail%3Fpanoid%3DdNkfRnc8YB_DBgpGh0S7dw%26cb_client%3Dsearch.gws-prod.gps%26w%3D86%26h%3D86%26yaw%3D2.0576696%26pitch%3D0%26thumbfov%3D100!7i16384!8i8192?entry=ttu | G5: 3
A6: Donaustraße (R. GG) | B6: nein | C6: ja | D6: ja | E6: ja | F6: https://www.google.de/maps/@49.8787133,8.4820807,3a,75y,132.41h,90t/data=!3m6!1e1!3m4!1sbGMcuhbLDjr5vV7_kU004A!2e0!7i16384!8i8192?entry=ttu | G6: 3
A7: Rathausplatz (R. GG) | B7: nein | C7: nein | D7: ja | E7: ja | F7: https://www.google.de/maps/place/Gro%C3%9F-Gerau-Dornheim+Rathausplatz/@49.8772639,8.4817782,19.75z/data=!4m9!1m2!2m1!1sbushaltestelle!3m5!1s0x47bd9d53db423b93:0xf69df220ebe80206!8m2!3d49.87761!4d8.48201!16s%2Fg%2F11qc3jx_8z?entry=ttu | G7: 1 | H7: Witterungsschutz am Hausvorbau (nicht Teil der Haltestellen-Einrichtung)
A8: Rathausplatz (R. Griesheim) | B8: nein | C8: ja | D8: ja | E8: ja | F8: https://www.google.de/maps/place/Gro%C3%9F-Gerau-Dornheim+Rathausplatz/@49.8768166,8.4818789,3a,75y,294.72h,90t/data=!3m7!1e1!3m5!1sGCYODlUUyylKgif8If9SLA!2e0!6shttps:%2F%2Fstreetviewpixels-pa.googleapis.com%2Fv1%2Fthumbnail%3Fcb_client%3Dmaps_sv.tactile%26w%3D900%26h%3D600%26pitch%3D0%26panoid%3DGCYODlUUyylKgif8If9SLA%26yaw%3D294.72247!7i16384!8i8192!4m10!1m2!2m1!1sbushaltestelle!3m6!1s0x47bd9d53c6d2c097:0x44e6e3c9aaa11d4b!8m2!3d49.87687!4d8.48167!15sCg5idXNoYWx0ZXN0ZWxsZZIBCGJ1c19zdG9w4AEA!16s%2Fg%2F11q4l57l44?coh=205410&entry=ttu&g_ep=EgoyMDI0MTAyOS4wIKXMDSoASAFQAw%3D%3D | G8: 1
A9: Rathausplatz (R. Leeheim) | B9: nein | C9: nein | D9: nein | E9: ja | F9: https://www.google.de/maps/place/Gro%C3%9F-Gerau-Dornheim+Rathausplatz/@49.8769491,8.4802658,19z/data=!4m9!1m2!2m1!1sbushaltestelle!3m5!1s0x47bd9d53cbb4424d:0xaaf6afe05f941db2!8m2!3d49.87714!4d8.481!16s%2Fg%2F11r_26qhcc?entry=ttu | G9: 1
A10: Friedhof (R. Leeheim) | B10: nein | C10: nein | D10: nein | E10: ja | F10: https://www.google.de/maps/place/Gro%C3%9F-Gerau-Dornheim+Friedhof/@49.8755964,8.4753566,18z/data=!4m10!1m2!2m1!1sbushaltestelle!3m6!1s0x47bd9d4d7c61b8e3:0xb15e0eb46f16565f!8m2!3d49.87552!4d8.47662!15sCg5idXNoYWx0ZXN0ZWxsZZIBCGJ1c19zdG9w4AEA!16s%2Fg%2F11r_26k3mk?entry=ttu | G10: 1 | H10: Nähe Friedhof
A11: Friedhof (R. GG) | B11: nein | C11: nein | D11: nein | E11: ja | F11: https://www.google.de/maps/place/Gro%C3%9F-Gerau-Dornheim+Friedhof/@49.8755964,8.4753566,18z/data=!4m9!1m2!2m1!1sbushaltestelle!3m5!1s0x47bd9d4d7cdd629b:0x4651c2c652201eae!8m2!3d49.87543!4d8.47667!16s%2Fg%2F11szr65qs6?entry=ttu | G11: 1 | H11: Nähe Friedhof
A12: Riedhalle (R. Griesheim) | B12: nein | C12: ja | D12: ja | E12: ja | F12: https://www.google.de/maps/place/Gro%C3%9F-Gerau-Dornheim+Riedhalle/@49.8750844,8.4822865,19.75z/data=!4m10!1m2!2m1!1sbushaltestelle!3m6!1s0x47bd9d537af0f489:0x2e8a1510d0205569!8m2!3d49.87504!4d8.48268!15sCg5idXNoYWx0ZXN0ZWxsZZIBCGJ1c19zdG9w4AEA!16s%2Fg%2F11szr5flgk?entry=ttu | G12: 2
A13: Riedhalle (R. GG) | B13: nein | C13: ja | D13: ja | E13: ja | F13: https://www.google.de/maps/place/Gro%C3%9F-Gerau-Dornheim+Riedhalle/@49.8750844,8.4822865,19.75z/data=!4m9!1m2!2m1!1sbushaltestelle!3m5!1s0x47bd9d537a3466bb:0x6641def03ed88578!8m2!3d49.87516!4d8.4827601!16s%2Fg%2F11qc3h0s5y?entry=ttu | G13: 2 | H13: Fahrradständer für 2 Räder
A14: =COUNTA(Tabelle1[[Haltestelle]]) -> 11 | B14: =COUNTIF(Tabelle1[[Barrierefreiheit]],"ja") -> 0 | C14: =COUNTIF(Tabelle1[[Sitzgelegenheit]],"ja") -> 5 | D14: =COUNTIF(Tabelle1[[Witterungsschutz]],"ja") -> 6 | E14: =COUNTIF(Tabelle1[[Foto]],"ja") -> 11
A15: Prozente | B15: =B14/A14 -> 0 | C15: =C14/A14 -> 0.45454545 | D15: =D14/A14 -> 0.54545455 | E15: =E14/A14 -> 1

Sheet Berkach, Esch, Dornberg
A1: Bushaltestellen Berkach, Esch, Dornberg
A2: Haltestelle | B2: Barrierefreiheit | C2: Sitzgelegenheit | D2: Witterungsschutz | E2: Foto | F2: Link Google Maps | G2: Prio | H2: Anmerkungen
A3: B 44 (R. Süden) | B3: teilweise | C3: nein | D3: nein | E3: nein | F3: https://www.google.de/maps/place/Gro%C3%9F-Gerau-Berkach+B+44/@49.8985995,8.4820475,17.75z/data=!4m6!3m5!1s0x47bd9d6ed23fbfd7:0xcd8f7455bbdfedd5!8m2!3d49.8992!4d8.48012!16s%2Fg%2F11szr6g_wr?entry=ttu | G3: 2 | H3: Nähe Kirche und Friedhof Hinweis LNVG: 18-cm-Hochbord, kein Leitsystem
A4: Berkach Kirche (R. Norden) | B4: nein | C4: ja | D4: ja | E4: nein | F4: https://www.google.de/maps/place/Gro%C3%9F-Gerau-Berkach+Kirche/@49.8985995,8.4820475,17.75z/data=!4m6!3m5!1s0x47bd9d6f2f1fb267:0x67cbc7ff19fb1085!8m2!3d49.89935!4d8.4814!16s%2Fg%2F11r_287yqy?entry=ttu | G4: 1 | H4: Nähe Kirche und Friedhof
A5: Esch III Busschleuse (R. Norden) | B5: ja | C5: ja | D5: ja | E5: ja | F5: https://www.google.de/maps/place/Gro%C3%9F-Gerau+Auf+Esch+III/@49.9026959,8.4766989,19z/data=!4m6!3m5!1s0x47bd9d6d98fdd33b:0x5bdb16178abcabeb!8m2!3d49.90327!4d8.4760899!16s%2Fg%2F11qc3hqm69?entry=ttu | G5: 9 | H5: direkt an Altenheim
A6: Esch III Busschleuse (R. Süden) | B6: ja | C6: ja | D6: ja | E6: ja | F6: https://www.google.de/maps/place/Gro%C3%9F-Gerau+Auf+Esch+III/@49.9026959,8.4766989,19z/data=!4m6!3m5!1s0x47bd9d6d9896240d:0x12a4605824991399!8m2!3d49.90318!4d8.47599!16s%2Fg%2F11r_282j35?entry=ttu | G6: 9 | H6: direkt an Altenheim
A7: Esch Brüsseler Ring | B7: nein | C7: nein | D7: nein | E7: nein | F7: https://www.google.de/maps/place/Gro%C3%9F-Gerau+Br%C3%BCsseler+Ring/@49.9071228,8.4732454,18.25z/data=!4m6!3m5!1s0x47bd9d0cd25175a5:0x3a0eb29f3c1ea4d8!8m2!3d49.9077!4d8.47332!16s%2Fg%2F11szr5nyby?entry=ttu | G7: 2 | H7: Nähe mehrerer Altenheime
A8: Esch Brüsseler Ring | B8: nein | C8: nein | D8: nein | E8: nein | F8: https://www.google.de/maps/place/Gro%C3%9F-Gerau+Br%C3%BCsseler+Ring/@49.9071228,8.4732454,18.25z/data=!4m6!3m5!1s0x47bd9d0cd34270a3:0xc3b54c807f0486ed!8m2!3d49.90756!4d8.47342!16s%2Fg%2F11r_27wvsq?entry=ttu | G8: 2 | H8: Nähe mehrerer Altenheime
A9: Esch Altenwohnheim | B9: nein | C9: ja | D9: ja | E9: ja | F9: nicht vorhanden | G9: 1 | H9: direkt an Altenheim und Grundschule
A10: Esch Tielter Straße (R. Norden) | B10: nein | C10: ja | D10: nein | E10: nein | F10: https://www.google.de/maps/place/Gro%C3%9F-Gerau+Tielter+Stra%C3%9Fe/@49.9100576,8.4737831,18.75z/data=!4m6!3m5!1s0x47bd9d0b4e728fa5:0xa64f2a4e18cfca43!8m2!3d49.91046!4d8.47394!16s%2Fg%2F11szr604xd?entry=ttu | G10: 2 | H10: Nähe Altenheim, nähe geplantes Hospiz
A11: Esch Tielter Straße (R. Süden) | B11: nein | C11: nein | D11: nein | E11: nein | F11: https://www.google.de/maps/place/Gro%C3%9F-Gerau+Tielter+Stra%C3%9Fe/@49.9098449,8.4736108,18.25z/data=!4m6!3m5!1s0x47bd9d0b4e2cc8dd:0xd365dafae7ad54ba!8m2!3d49.91041!4d8.47377!16s%2Fg%2F11r_27wt1q?entry=ttu | G11: 2 | H11: Nähe Altenheim, nähe geplantes Hospiz
A12: Kreisklinik (mehrere Haltestellen) | B12: ja | C12: ja | D12: ja | E12: ja | F12: nicht vorhanden | G12: 9 | H12: zwei Haltestellen; nur die vorderse ist ausgebaut (Angaben beziehen sich darauf)
A13: Martin Buber Schule (mehrere Haltestellen) | B13: nein | C13: nein | D13: nein | E13: ja | F13: nicht vorhanden | G13: 1 | H13: mehrere Haltestellen, keine ist ausgebaut
A14: Hallenbad (R. Süden) | B14: nein | C14: nein | D14: nein | E14: ja | F14: https://www.google.de/maps/place/Gro%C3%9F-Gerau+Hallenbad/@49.9143022,8.4764085,18.25z/data=!4m6!3m5!1s0x47bd9d7570af2759:0xf90cf0dc56b4c7f!8m2!3d49.9139!4d8.47827!16s%2Fg%2F11r_26thmw?entry=ttu | G14: 3
A15: Hallenbad (R. Norden) | B15: ja | C15: ja | D15: ja | E15: ja | F15: nicht vorhanden | G15: 9
A16: Landratsamt (R. Kreisklinik) | B16: ja | C16: ja | D16: ja | E16: nein | F16: https://www.google.de/maps/place/Gro%C3%9F-Gerau+Landratsamt/@49.9118859,8.4783477,18.75z/data=!4m6!3m5!1s0x47bd9d7452859471:0xe490ae0728496f59!8m2!3d49.91181!4d8.47886!16s%2Fg%2F11r_276cc5?entry=ttu | G16: 9
A17: Landratsamt (R. B44) | B17: ja | C17: ja | D17: ja | E17: nein | F17: https://www.google.de/maps/place/Gro%C3%9F-Gerau+Landratsamt/@49.9118999,8.4781046,18.25z/data=!4m6!3m5!1s0x47bd9d7452743df3:0xb113720c8cef8c4d!8m2!3d49.91172!4d8.47886!16s%2Fg%2F11qc3j473l?entry=ttu | G17: 9
A18: Europaring (R. Kreisklinik) | B18: nein | C18: ja | D18: ja | E18: nein | F18: https://www.google.de/maps/place/Gro%C3%9F-Gerau+Europaring/@49.9110068,8.4809154,18.75z/data=!4m6!3m5!1s0x47bd9d76920f771b:0x296969e57061794b!8m2!3d49.91101!4d8.48241!16s%2Fg%2F11szr6t41n?entry=ttu | G18: 2
A19: Europaring (R. B44) | B19: nein | C19: ja | D19: ja | E19: nein | F19: https://www.google.de/maps/place/Gro%C3%9F-Gerau+Europaring/@49.9110068,8.4809154,18.75z/data=!4m6!3m5!1s0x47bd9d768279590f:0x7a2419e251829656!8m2!3d49.91131!4d8.48124!16s%2Fg%2F11szr86nv3?entry=ttu | G19: 2
A20: Dornberg, Pforte (R. Kreisklinik) | B20: nein | C20: nein | D20: nein | E20: nein | F20: https://www.google.de/maps/place/Gro%C3%9F-Gerau-Dornberg+Pforte/@49.909003,8.4852982,18.75z/data=!4m6!3m5!1s0x47bd9d77548d7813:0x179ff2afbbcd06a6!8m2!3d49.90891!4d8.48673!16s%2Fg%2F11r_26m_y2?entry=ttu | G20: 2
A21: Dornberg, Pforte (R. Bahnhof) | B21: nein | C21: ja | D21: ja | E21: nein | F21: https://www.google.de/maps/place/Gro%C3%9F-Gerau-Dornberg+Pforte/@49.909003,8.4852982,18.75z/data=!4m6!3m5!1s0x47bd9d70aaca73bb:0x7a5206edc09fc155!8m2!3d49.90876!4d8.4869!16s%2Fg%2F11r_271nd0?entry=ttu | G21: 2
A22: Dornberg-Bhf Westseite (R. Norden) | B22: ja | C22: ja | D22: ja | E22: nein | F22: https://www.google.de/maps/place/Gro%C3%9F-Gerau-Dornberg+Bahnhof+Westseite/@49.911884,8.4926246,18.75z/data=!4m6!3m5!1s0x47bd9d78b6968c5b:0xfbfcca1d3caf9e24!8m2!3d49.91234!4d8.49417!16s%2Fg%2F11r_28m_15?entry=ttu | G22: 9
A23: Dornberg-Bhf Westseite (R. Süden) | B23: ja | C23: ja | D23: ja | E23: nein | F23: https://www.google.de/maps/place/Gro%C3%9F-Gerau-Dornberg+Bahnhof+Westseite/@49.911884,8.4926246,18.75z/data=!4m6!3m5!1s0x47bd9d78c90ad509:0x13097781dcdd79fe!8m2!3d49.91195!4d8.49402!16s%2Fg%2F11szr6kpbf?entry=ttu | G23: 9
A24: Dornberg-Bhf Ostseite A | B24: ja | C24: ja | D24: ja | E24: ja | F24: nicht vorhanden | G24: 9
A25: Dornberg-Bhf Ostseite B | B25: ja | C25: ja | D25: ja | E25: ja | F25: nicht vorhanden | G25: 9
... A27: Helvetia Parc B | B27: ja | C27: ja | D27: ja | E27: ja | F27: https://www.google.de/maps/@49.9086663,8.4991304,3a,15y,354.59h,86.87t/data=!3m7!1e1!3m5!1s0xDIaVIFOzgb272P4eLHfQ!2e0!6shttps:%2F%2Fstreetviewpixels-pa.googleapis.com%2Fv1%2Fthumbnail%3Fcb_client%3Dmaps_sv.tactile%26w%3D900%26h%3D600%26pitch%3D3.1303463444495776%26panoid%3D0xDIaVIFOzgb272P4eLHfQ%26yaw%3D354.59404965318595!7i16384!8i8192?coh=205410&entry=ttu&g_ep=EgoyMDI0MTAyOS4wIKXMDSoASAFQAw%3D%3D | G27: 9
A28: =COUNTA(Tabelle137[[Haltestelle]]) -> 25 | B28: =COUNTIF(Tabelle137[[Barrierefreiheit]],"ja") -> 12 | C28: =COUNTIF(Tabelle137[[Sitzgelegenheit]],"ja") -> 18 | D28: =COUNTIF(Tabelle137[[Witterungsschutz]],"ja") -> 17 | E28: =COUNTIF(Tabelle137[[Foto]],"ja") -> 11
A29: Prozente | B29: =B28/A28 -> 0.48 | C29: =C28/A28 -> 0.72 | D29: =D28/A28 -> 0.68 | E29: =E28/A28 -> 0.44

Sheet Wallerstädten
A1: Bushaltestellen Wallerstädten
A2: Haltestelle | B2: Barrierefreiheit | C2: Sitzgelegenheit | D2: Witterungsschutz | E2: Foto | F2: Link Google Maps | G2: Prio | H2: Anmerkungen
A3: An der Pforte (R. Geinsheim) | B3: nein | C3: nein | D3: nein | E3: nein | F3: https://www.google.de/maps/place/Gro%C3%9F-Gerau-Wallerst%C3%A4dten+An+der+Pforte/@49.9050511,8.4543307,17.29z/data=!4m6!3m5!1s0x47bd9d04da10d6c7:0x4bf78811f561e091!8m2!3d49.90656!4d8.45635!16s%2Fg%2F11szr7m4m_?entry=ttu | G3: 9 | H3: Nähe Einkaufsmarkt
A4: An der Pforte (R. GG) | B4: nein | C4: ja | D4: ja | E4: nein | F4: https://www.google.de/maps/place/Gro%C3%9F-Gerau-Wallerst%C3%A4dten+An+der+Pforte/@49.9050511,8.4543307,17.29z/data=!4m6!3m5!1s0x47bd9d04d0f05163:0x71e16a81786bcc02!8m2!3d49.9064!4d8.4562!16s%2Fg%2F11szr6xsrg?entry=ttu | G4: 9 | H4: Nähe Einkaufsmarkt
A5: Rathaus (R. Geinsheim) | B5: nein | C5: nein | D5: nein | E5: nein | F5: https://www.google.de/maps/place/Gro%C3%9F-Gerau-Wallerst%C3%A4dten+Rathaus/@49.9044039,8.4510861,20.54z/data=!4m6!3m5!1s0x47bd9d1ced708425:0xaa7af048687054c3!8m2!3d49.90435!4d8.45107!16s%2Fg%2F11r_26qkz6?entry=ttu | G5: 9
A6: Rathaus (R. GG) | B6: nein | C6: nein | D6: nein | E6: nein | F6: https://www.google.de/maps/@49.9043402,8.4511404,3a,90y,12.21h,74.49t/data=!3m7!1e1!3m5!1sTlmQa7XjZTm6_X0JurMeuw!2e0!6shttps:%2F%2Fstreetviewpixels-pa.googleapis.com%2Fv1%2Fthumbnail%3Fcb_client%3Dmaps_sv.tactile%26w%3D900%26h%3D600%26pitch%3D15.507942666360364%26panoid%3DTlmQa7XjZTm6_X0JurMeuw%26yaw%3D12.208790062584029!7i16384!8i8192?coh=205410&entry=ttu&g_ep=EgoyMDI0MTAyOS4wIKXMDSoASAFQAw%3D%3D | G6: 9
A7: Siedlung (R. Geinsheim) | B7: nein | C7: nein | D7: nein | E7: nein | F7: https://www.google.de/maps/place/Gro%C3%9F-Gerau-Wallerst%C3%A4dten+Siedlung/@49.9031271,8.4487626,18.79z/data=!4m6!3m5!1s0x47bd9d1c4e46c775:0x4b328541321a0d79!8m2!3d49.90302!4d8.44974!16s%2Fg%2F11szr65gmp?entry=ttu | G7: 9
A8: Siedlung (R. GG) | B8: nein | C8: ja | D8: ja | E8: nein | F8: https://www.google.de/maps/place/Gro%C3%9F-Gerau-Wallerst%C3%A4dten+Siedlung/@49.9031271,8.4487626,18.79z/data=!4m6!3m5!1s0x47bd9d1c4b7a4207:0x22afa14fcad04256!8m2!3d49.90279!4d8.4493!16s%2Fg%2F11qc3jq433?entry=ttu | G8: 9
A9: Vor der Lache (R. Geinsheim) | B9: nein | C9: nein | D9: nein | E9: nein | F9: https://www.google.de/maps/place/Gro%C3%9F-Gerau-Wallerst%C3%A4dten+Vor+der+Lache/@49.8964992,8.4240125,17.29z/data=!4m6!3m5!1s0x47bd9cc1a4ad04d7:0xf51ca29a3e420e17!8m2!3d49.8961!4d8.42209!16s%2Fg%2F11r_26w6w6?entry=ttu | G9: 9
A10: Vor der Lache (R. GG) | B10: nein | C10: nein | D10: nein | E10: nein | F10: https://www.google.de/maps/place/Gro%C3%9F-Gerau-Wallerst%C3%A4dten+Vor+der+Lache/@49.8962734,8.4234323,17.79z/data=!4m6!3m5!1s0x47bd9cc199d4d4c9:0x6d7323eccfc1dfb7!8m2!3d49.89605!4d8.42273!16s%2Fg%2F11qc3k686z?entry=ttu | G10: 9
A11: =COUNTA(Tabelle134[[Haltestelle]]) -> 8 | B11: =COUNTIF(Tabelle134[[Barrierefreiheit]],"ja") -> 0 | C11: =COUNTIF(Tabelle134[[Sitzgelegenheit]],"ja") -> 2 | D11: =COUNTIF(Tabelle134[[Witterungsschutz]],"ja") -> 2 | E11: =COUNTIF(Tabelle134[[Foto]],"ja") -> 0 | H11: keine Prio, da Umbau bereits 2025 geplant
A12: Prozente | B12: =B11/A11 -> 0 | C12: =C11/A11 -> 0.25 | D12: =D11/A11 -> 0.25 | E12: =E11/A11 -> 0

Sheet Kernstadt
A1: Bushaltestellen Kernstadt
A2: Haltestelle | B2: Barrierefreiheit | C2: Sitzgelegenheit | D2: Witterungsschutz | E2: Foto | F2: Link Google Maps | G2: Prio | H2: Anmerkungen
A3: AOK/ Post (R. Norden) | B3: nein | C3: ja | D3: ja | E3: nein | F3: https://www.google.de/maps/@49.9147006,8.4856985,3a,75y,59.64h,90t/data=!3m7!1e1!3m5!1s_XtQgG0ZIHMvkQOY4CB2Yg!2e0!6shttps:%2F%2Fstreetviewpixels-pa.googleapis.com%2Fv1%2Fthumbnail%3Fpanoid%3D_XtQgG0ZIHMvkQOY4CB2Yg%26cb_client%3Dsearch.gws-prod.gps%26w%3D86%26h%3D86%26yaw%3D59.64431%26pitch%3D0%26thumbfov%3D100!7i16384!8i8192?entry=ttu | G3: 2
A4: AOK/ Post (R. Süden) | B4: nein | C4: nein | D4: nein | E4: nein | F4: https://www.google.de/maps/@49.9151133,8.4856574,3a,75y,204.56h,90t/data=!3m7!1e1!3m5!1sUsdHBqErOffGSRXHrE8Fgw!2e0!6shttps:%2F%2Fstreetviewpixels-pa.googleapis.com%2Fv1%2Fthumbnail%3Fpanoid%3DUsdHBqErOffGSRXHrE8Fgw%26cb_client%3Dsearch.gws-prod.gps%26w%3D86%26h%3D86%26yaw%3D204.55765%26pitch%3D0%26thumbfov%3D100!7i16384!8i8192?entry=ttu | G4: 2
A5: Marktplatz (R. Norden) | B5: ja | C5: ja | D5: ja | E5: nein | F5: https://www.google.de/maps/place/Gro%C3%9F-Gerau+Marktplatz/@49.9189671,8.4859318,3a,75y,182.33h,73.75t/data=!3m6!1e1!3m4!1sei3XqMTQmZKnjdP65h28_Q!2e0!7i16384!8i8192!4m11!1m2!2m1!1sbushaltestelle!3m7!1s0x47bd9d9c77625a13:0x5e5dc1cfb5722fe8!8m2!3d49.91895!4d8.48598!10e5!15sCg5idXNoYWx0ZXN0ZWxsZZIBCGJ1c19zdG9w4AEA!16s%2Fg%2F11qc3jtk72?entry=ttu | G5: 9 | H5: Stadtzentrum
A6: Marktplatz (R. Süden) | B6: ja | C6: ja | D6: ja | E6: nein | F6: https://www.google.de/maps/place/Gro%C3%9F-Gerau+Marktplatz/@49.9189671,8.4859318,3a,75y,258.46h,78.15t/data=!3m7!1e1!3m5!1sei3XqMTQmZKnjdP65h28_Q!2e0!6shttps:%2F%2Fstreetviewpixels-pa.googleapis.com%2Fv1%2Fthumbnail%3Fcb_client%3Dmaps_sv.tactile%26w%3D900%26h%3D600%26pitch%3D11.849156675385188%26panoid%3Dei3XqMTQmZKnjdP65h28_Q%26yaw%3D258.4561964505291!7i16384!8i8192!4m11!1m2!2m1!1sbushaltestelle!3m7!1s0x47bd9d9c77625a13:0x5e5dc1cfb5722fe8!8m2!3d49.91895!4d8.48598!10e5!15sCg5idXNoYWx0ZXN0ZWxsZZIBCGJ1c19zdG9w4AEA!16s%2Fg%2F11qc3jtk72?coh=205410&entry=ttu&g_ep=EgoyMDI0MTAyOS4wIKXMDSoASAFQAw%3D%3D | G6: 9 | H6: Stadtzentrum
A7: Klein-Gerauer-Straße (R. Kreisklinik) | B7: ja | C7: ja | D7: ja | E7: ja | F7: https://www.google.de/maps/@49.918517,8.4892677,3a,71.6y,359.17h,94.21t/data=!3m7!1e1!3m5!1sXV5tuNkapdTEtF87Q344Qg!2e0!6shttps:%2F%2Fstreetviewpixels-pa.googleapis.com%2Fv1%2Fthumbnail%3Fpanoid%3DXV5tuNkapdTEtF87Q344Qg%26cb_client%3Dsearch.gws-prod.gps%26w%3D86%26h%3D86%26yaw%3D356.49774%26pitch%3D0%26thumbfov%3D100!7i16384!8i8192?entry=ttu | G7: 9 | H7: direkt am Friedhof Hinweis LNVG: 18er Bord (teilweise barriefrei)
A8: Klein-Gerauer-Straße (R. Rüsselsheim) | B8: ja | C8: ja | D8: ja | E8: nein | F8: https://www.google.de/maps/@49.9188721,8.4899597,3a,90y,148.54h,66.67t/data=!3m7!1e1!3m5!1s0aTJD8Yi7MCx261s53CVig!2e0!6shttps:%2F%2Fstreetviewpixels-pa.googleapis.com%2Fv1%2Fthumbnail%3Fpanoid%3D0aTJD8Yi7MCx261s53CVig%26cb_client%3Dsearch.gws-prod.gps%26w%3D86%26h%3D86%26yaw%3D140.85834%26pitch%3D0%26thumbfov%3D100!7i16384!8i8192?entry=ttu | G8: 9 | H8: direkt am Friedhof Hinweis LNVG: 18er Bord (teilweise barriefrei)
A9: Berufsschule (R. Bahnhof Dornberg) | B9: nein | C9: ja | D9: ja | E9: nein | F9: https://www.google.de/maps/@49.9147881,8.4922543,3a,75y,289.56h,90t/data=!3m7!1e1!3m5!1sTiBFjq6_L8xrMjYKiRVR2Q!2e0!6shttps:%2F%2Fstreetviewpixels-pa.googleapis.com%2Fv1%2Fthumbnail%3Fpanoid%3DTiBFjq6_L8xrMjYKiRVR2Q%26cb_client%3Dsearch.gws-prod.gps%26w%3D86%26h%3D86%26yaw%3D289.5555%26pitch%3D0%26thumbfov%3D100!7i16384!8i8192?entry=ttu | G9: 1
A10: Berufsschule (R. Stadtzentrum) | B10: nein | C10: nein | D10: nein | E10: nein | F10: https://www.google.de/maps/@49.915147,8.4917886,3a,75y,2.35h,90t/data=!3m7!1e1!3m5!1s2K8cwn4QuUXlWV8Vl6qG5A!2e0!6shttps:%2F%2Fstreetviewpixels-pa.googleapis.com%2Fv1%2Fthumbnail%3Fpanoid%3D2K8cwn4QuUXlWV8Vl6qG5A%26cb_client%3Dsearch.gws-prod.gps%26w%3D86%26h%3D86%26yaw%3D2.3515823%26pitch%3D0%26thumbfov%3D100!7i16384!8i8192?entry=ttu | G10: 1
A11: Berufsschule Westseite | B11: nein | C11: nein | D11: nein | E11: nein | F11: https://www.google.de/maps/@49.9159898,8.4916043,3a,55.2y,87.25h,89.33t/data=!3m7!1e1!3m5!1svfedcbHfWQPgMhceKkYYFw!2e0!6shttps:%2F%2Fstreetviewpixels-pa.googleapis.com%2Fv1%2Fthumbnail%3Fpanoid%3DvfedcbHfWQPgMhceKkYYFw%26cb_client%3Dsearch.gws-prod.gps%26w%3D86%26h%3D86%26yaw%3D92.609566%26pitch%3D0%26thumbfov%3D100!7i16384!8i8192?coh=205409&entry=ttu | G11: 2
A12: Jahnstraße | B12: nein | C12: nein | D12: nein | E12: nein | F12: https://www.google.de/maps/@49.9159231,8.4802545,3a,17.7y,10.73h,86.67t/data=!3m7!1e1!3m5!1skm6kSUEVxuBWI0J8hzPLmQ!2e0!6shttps:%2F%2Fstreetviewpixels-pa.googleapis.com%2Fv1%2Fthumbnail%3Fpanoid%3Dkm6kSUEVxuBWI0J8hzPLmQ%26cb_client%3Dsearch.gws-prod.gps%26w%3D86%26h%3D86%26yaw%3D285.4083%26pitch%3D0%26thumbfov%3D100!7i16384!8i8192?entry=ttu | G12: 1
A13: Mobilitätszentrale | B13: nein | C13: nein | D13: nein | E13: nein | F13: https://www.google.de/maps/@49.9201824,8.4819378,3a,75y,283.79h,74.61t/data=!3m7!1e1!3m5!1s0q0LAJsCcUhrynQMbToW0A!2e0!6shttps:%2F%2Fstreetviewpixels-pa.googleapis.com%2Fv1%2Fthumbnail%3Fpanoid%3D0q0LAJsCcUhrynQMbToW0A%26cb_client%3Dsearch.gws-prod.gps%26w%3D86%26h%3D86%26yaw%3D81.67493%26pitch%3D0%26thumbfov%3D100!7i16384!8i8192?entry=ttu | G13: 1 | H13: Stadtzentrum
A14: Walther-Rathenau-Straße | B14: nein | C14: nein | D14: nein | E14: nein | F14: https://www.google.de/maps/@49.9197919,8.4804184,3a,57.9y,281.46h,80.99t/data=!3m7!1e1!3m5!1svYmy4LYdw2I9qauUyXiINA!2e0!6shttps:%2F%2Fstreetviewpixels-pa.googleapis.com%2Fv1%2Fthumbnail%3Fpanoid%3DvYmy4LYdw2I9qauUyXiINA%26cb_client%3Dsearch.gws-prod.gps%26w%3D86%26h%3D86%26yaw%3D281.01358%26pitch%3D0%26thumbfov%3D100!7i16384!8i8192?entry=ttu | G14: 3
A15: Oppenheimer Straße (stadteinwärts) | B15: ja | C15: ja | D15: ja | E15: nein | F15: https://www.google.de/maps/@49.9219024,8.4754232,3a,75y,146.36h,90t/data=!3m7!1e1!3m5!1sCKtsdwUhfSfKZ6GDGwTQeQ!2e0!6shttps:%2F%2Fstreetviewpixels-pa.googleapis.com%2Fv1%2Fthumbnail%3Fpanoid%3DCKtsdwUhfSfKZ6GDGwTQeQ%26cb_client%3Dsearch.gws-prod.gps%26w%3D86%26h%3D86%26yaw%3D146.36028%26pitch%3D0%26thumbfov%3D100!7i16384!8i8192?entry=ttu | G15: 9
A16: Oppenheimer Straße (stadtauswärts) | B16: ja | C16: ja | D16: ja | E16: nein | F16: https://www.google.de/maps/@49.9219024,8.4754232,3a,75y,9.21h,90t/data=!3m7!1e1!3m5!1sCKtsdwUhfSfKZ6GDGwTQeQ!2e0!6shttps:%2F%2Fstreetviewpixels-pa.googleapis.com%2Fv1%2Fthumbnail%3Fpanoid%3DCKtsdwUhfSfKZ6GDGwTQeQ%26cb_client%3Dsearch.gws-prod.gps%26w%3D86%26h%3D86%26yaw%3D146.36028%26pitch%3D0%26thumbfov%3D100!7i16384!8i8192?entry=ttu | G16: 9
A17: Am Schachen (stadteinwärts) | B17: ja | C17: ja | D17: ja | E17: nein | F17: https://www.google.de/maps/@49.9265579,8.4688652,3a,54.7y,201.28h,85.87t/data=!3m7!1e1!3m5!1sxP3JfzfJdvNkGKG39y-oLA!2e0!6shttps:%2F%2Fstreetviewpixels-pa.googleapis.com%2Fv1%2Fthumbnail%3Fpanoid%3DxP3JfzfJdvNkGKG39y-oLA%26cb_client%3Dsearch.gws-prod.gps%26w%3D86%26h%3D86%26yaw%3D219.35953%26pitch%3D0%26thumbfov%3D100!7i16384!8i8192?coh=205409&entry=ttu | G17: 9
A18: Am Schachen (stadtauswärts) | B18: ja | C18: ja | D18: ja | E18: nein | F18: https://www.google.de/maps/@49.9261513,8.4695306,3a,75y,42.51h,80.95t/data=!3m7!1e1!3m5!1sXv3JPW64OukCJVAXPYmrbw!2e0!6shttps:%2F%2Fstreetviewpixels-pa.googleapis.com%2Fv1%2Fthumbnail%3Fcb_client%3Dmaps_sv.tactile%26w%3D900%26h%3D600%26pitch%3D9.052842043832868%26panoid%3DXv3JPW64OukCJVAXPYmrbw%26yaw%3D42.506782236074834!7i16384!8i8192?coh=205410&entry=ttu&g_ep=EgoyMDI0MTAyOS4wIKXMDSoASAFQAw%3D%3D | G18: 9
A19: Stadtmitte (R. Norden) | B19: "teilweise" | C19: ja | D19: nein | E19: ja | F19: https://www.google.de/maps/@49.9220426,8.4818782,3a,90y,128.12h,76.09t/data=!3m7!1e1!3m5!1sojzgzsnahovxDTz0V_pamw!2e0!6shttps:%2F%2Fstreetviewpixels-pa.googleapis.com%2Fv1%2Fthumbnail%3Fcb_client%3Dmaps_sv.tactile%26w%3D900%26h%3D600%26pitch%3D13.914495226561698%26panoid%3DojzgzsnahovxDTz0V_pamw%26yaw%3D128.1202702819291!7i16384!8i8192?coh=205410&entry=ttu&g_ep=EgoyMDI0MTAyOS4wIKXMDSoASAFQAw%3D%3D | G19: 3 | H19: Hinweis LNVG: 18er Bord (teilweise barriefrei)
A20: Stadtmitte (R. Süden) | B20: ja | C20: ja | D20: ja | E20: nein | F20: https://www.google.de/maps/@49.9230568,8.4822222,3a,67.1y,312.41h,64.2t/data=!3m7!1e1!3m5!1sWRSsOTjwz90Iu7C2H9v9-A!2e0!6shttps:%2F%2Fstreetviewpixels-pa.googleapis.com%2Fv1%2Fthumbnail%3Fpanoid%3DWRSsOTjwz90Iu7C2H9v9-A%26cb_client%3Dsearch.gws-prod.gps%26w%3D86%26h%3D86%26yaw%3D38.34995%26pitch%3D0%26thumbfov%3D100!7i16384!8i8192?entry=ttu | G20: 9
A21: Europakreisel (stadteinwärts) | B21: nein | C21: nein | D21: nein | E21: ja | F21: https://www.google.de/maps/@49.9241224,8.482775,3a,75y,253.11h,84.3t/data=!3m7!1e1!3m5!1stnuvjonNibNJGw84mARG3w!2e0!6shttps:%2F%2Fstreetviewpixels-pa.googleapis.com%2Fv1%2Fthumbnail%3Fcb_client%3Dmaps_sv.tactile%26w%3D900%26h%3D600%26pitch%3D5.704047816690917%26panoid%3DtnuvjonNibNJGw84mARG3w%26yaw%3D253.11063647296322!7i16384!8i8192?coh=205410&entry=ttu&g_ep=EgoyMDI0MTAyOS4wIKXMDSoASAFQAw%3D%3D | G21: 2
A22: Europakreisel (stadtauswärts) | B22: nein | C22: nein | D22: nein | E22: nein | F22: https://www.google.de/maps/@49.9242957,8.4828735,3a,75y,351.15h,67.98t/data=!3m7!1e1!3m5!1su7iK_KuPlM5NPTMIdiXZ8g!2e0!6shttps:%2F%2Fstreetviewpixels-pa.googleapis.com%2Fv1%2Fthumbnail%3Fpanoid%3Du7iK_KuPlM5NPTMIdiXZ8g%26cb_client%3Dsearch.gws-prod.gps%26w%3D86%26h%3D86%26yaw%3D61.944214%26pitch%3D0%26thumbfov%3D100!7i16384!8i8192?entry=ttu | G22: 2
A23: Bahnhof (R. Westen) | B23: ja | C23: ja | D23: ja | E23: ja | F23: https://www.google.de/maps/@49.9245719,8.4851595,3a,75y,335.62h,89.72t/data=!3m7!1e1!3m5!1s50zBk-5bsWUGxGsg_lsYMg!2e0!6shttps:%2F%2Fstreetviewpixels-pa.googleapis.com%2Fv1%2Fthumbnail%3Fpanoid%3D50zBk-5bsWUGxGsg_lsYMg%26cb_client%3Dsearch.gws-prod.gps%26w%3D86%26h%3D86%26yaw%3D335.83954%26pitch%3D0%26thumbfov%3D100!7i16384!8i8192?entry=ttu | G23: 9
A24: Bahnhof (R. Osten) | B24: ja | C24: ja | D24: ja | E24: ja | F24: https://www.google.de/maps/place/Gro%C3%9F-Gerau+Bahnhof/@49.9245515,8.4852978,3a,75y,161.17h,84.05t/data=!3m7!1e1!3m5!1sOb8Cp1vVKRXlrnBmQXziCw!2e0!6shttps:%2F%2Fstreetviewpixels-pa.googleapis.com%2Fv1%2Fthumbnail%3Fpanoid%3DOb8Cp1vVKRXlrnBmQXziCw%26cb_client%3Dmaps_sv.tactile.gps%26w%3D203%26h%3D100%26yaw%3D190.60484%26pitch%3D0%26thumbfov%3D100!7i16384!8i8192!4m10!1m2!2m1!1sbushaltestelle!3m6!1s0x47bd9d90aac6e807:0xd0b31f063fcdb443!8m2!3d49.92447!4d8.48527!10e5!16s%2Fg%2F11szr797l1?coh=205409&entry=ttu | G24: 9
A25: Hermann-Löns-Straße (R. Bf. GG) | B25: nein | C25: nein | D25: nein | E25: ja | F25: https://www.google.de/maps/@49.9224431,8.4920229,3a,75y,303.24h,90t/data=!3m7!1e1!3m5!1sWP9IvxxeLWKcNBn9JTs6cw!2e0!6shttps:%2F%2Fstreetviewpixels-pa.googleapis.com%2Fv1%2Fthumbnail%3Fpanoid%3DWP9IvxxeLWKcNBn9JTs6cw%26cb_client%3Dsearch.gws-prod.gps%26w%3D86%26h%3D86%26yaw%3D303.23703%26pitch%3D0%26thumbfov%3D100!7i16384!8i8192?entry=ttu | G25: 1 | H25: Nähe Tafel
A26: Hermann-Löns-Straße (R. Bf. Dbg) | B26: nein | C26: nein | D26: nein | E26: ja | F26: https://www.google.de/maps/@49.9224431,8.4920229,3a,75y,303.24h,90t/data=!3m7!1e1!3m5!1sWP9IvxxeLWKcNBn9JTs6cw!2e0!6shttps:%2F%2Fstreetviewpixels-pa.googleapis.com%2Fv1%2Fthumbnail%3Fpanoid%3DWP9IvxxeLWKcNBn9JTs6cw%26cb_client%3Dsearch.gws-prod.gps%26w%3D86%26h%3D86%26yaw%3D303.23703%26pitch%3D0%26thumbfov%3D100!7i16384!8i8192?entry=ttu | G26: 1 | H26: Nähe Tafel
A27: Prälat-Diehl-Schule (R. Osten) | B27: nein | C27: nein | D27: nein | E27: nein | F27: https://www.google.de/maps/@49.9210532,8.4886152,3a,15y,186.87h,90.24t/data=!3m7!1e1!3m5!1s9n-FHUzFYqk8_Ug61zbDKw!2e0!6shttps:%2F%2Fstreetviewpixels-pa.googleapis.com%2Fv1%2Fthumbnail%3Fpanoid%3D9n-FHUzFYqk8_Ug61zbDKw%26cb_client%3Dsearch.gws-prod.gps%26w%3D86%26h%3D86%26yaw%3D193.48636%26pitch%3D0%26thumbfov%3D100!7i16384!8i8192?entry=ttu | G27: 1
A28: Prälat-Diehl-Schule (R. Westen) | B28: nein | C28: nein | D28: nein | E28: nein | F28: https://www.google.de/maps/@49.9213368,8.4880564,3a,88.7y,43.81h,85.48t/data=!3m7!1e1!3m5!1s7yksb8YLwcZm3_LfXGpCsA!2e0!6shttps:%2F%2Fstreetviewpixels-pa.googleapis.com%2Fv1%2Fthumbnail%3Fpanoid%3D7yksb8YLwcZm3_LfXGpCsA%26cb_client%3Dsearch.gws-prod.gps%26w%3D86%26h%3D86%26yaw%3D22.049017%26pitch%3D0%26thumbfov%3D100!7i16384!8i8192?entry=ttu | G28: 1
A29: Kirchgartenstraße | B29: nein | C29: nein | D29: nein | F29: https://www.google.de/maps/@49.9236222,8.4761418,3a,75y,315.26h,90t/data=!3m7!1e1!3m5!1s9hvXNOsqp0dpL_Gx_gJhJw!2e0!6shttps:%2F%2Fstreetviewpixels-pa.googleapis.com%2Fv1%2Fthumbnail%3Fcb_client%3Dmaps_sv.tactile%26w%3D900%26h%3D600%26pitch%3D0%26panoid%3D9hvXNOsqp0dpL_Gx_gJhJw%26yaw%3D315.26102!7i16384!8i8192?entry=ttu&g_ep=EgoyMDI1MDMwMi4wIKXMDSoASAFQAw%3D%3D | G29: 3 | H29: neu und noch nicht in Google Maps enthalten
A30: =COUNTA(Tabelle1345[[Haltestelle]]) -> 27 | B30: =COUNTIF(Tabelle1345[[Barrierefreiheit]],"ja") -> 11 | C30: =COUNTIF(Tabelle1345[[Sitzgelegenheit]],"ja") -> 14 | D30: =COUNTIF(Tabelle1345[[Witterungsschutz]],"ja") -> 13 | E30: =COUNTIF(Tabelle1345[[Foto]],"ja") -> 7
A31: Prozente | B31: =B30/A30 -> 0.40740741 | C31: =C30/A30 -> 0.51851852 | D31: =D30/A30 -> 0.48148148 | E31: =E30/A30 -> 0.25925926

Sheet Siedlung
A1: Bushaltestellen Siedlung
A2: Haltestelle | B2: Barrierefreiheit | C2: Sitzgelegenheit | D2: Witterungsschutz | E2: Foto | F2: Link Google Maps | G2: Prio | H2: Anmerkungen
A3: Römerkreisel (R. Norden) | B3: ja | C3: nein | D3: nein | E3: nein | F3: https://www.google.de/maps/@49.9275834,8.4868104,3a,75y,108.98h,81.85t/data=!3m6!1e1!3m4!1sQcsY14YC9r08kCCQN0LBcw!2e0!7i16384!8i8192?coh=205409&entry=ttu | G3: 2
A4: Römerkreisel (R. Süden) | B4: ja | C4: ja | D4: ja | E4: nein | F4: https://www.google.de/maps/@49.9278649,8.486938,3a,75y,255.8h,90t/data=!3m7!1e1!3m5!1sZS7RfG4J-tUR2OW-Jmkhuw!2e0!6shttps:%2F%2Fstreetviewpixels-pa.googleapis.com%2Fv1%2Fthumbnail%3Fpanoid%3DZS7RfG4J-tUR2OW-Jmkhuw%26cb_client%3Dsearch.gws-prod.gps%26w%3D86%26h%3D86%26yaw%3D255.79707%26pitch%3D0%26thumbfov%3D100!7i16384!8i8192?entry=ttu | G4: 9
A5: Friedhof (R. Geinsheim) | B5: nein | C5: nein | D5: nein | E5: nein | F5: https://www.google.de/maps/@49.9302447,8.4838441,3a,86.1y,9.44h,97.71t/data=!3m7!1e1!3m5!1szBf6u7B3frKT-vTfziUuXA!2e0!6shttps:%2F%2Fstreetviewpixels-pa.googleapis.com%2Fv1%2Fthumbnail%3Fpanoid%3DzBf6u7B3frKT-vTfziUuXA%26cb_client%3Dsearch.gws-prod.gps%26w%3D86%26h%3D86%26yaw%3D303.988%26pitch%3D0%26thumbfov%3D100!7i16384!8i8192?entry=ttu | G5: 1 | H5: Nähe Friedhof
A6: Friedhof (R. Siedlung) | B6: nein | C6: ja | D6: ja | E6: nein | F6: https://www.google.de/maps/@49.9302447,8.4838441,3a,86.1y,9.44h,97.71t/data=!3m7!1e1!3m5!1szBf6u7B3frKT-vTfziUuXA!2e0!6shttps:%2F%2Fstreetviewpixels-pa.googleapis.com%2Fv1%2Fthumbnail%3Fpanoid%3DzBf6u7B3frKT-vTfziUuXA%26cb_client%3Dsearch.gws-prod.gps%26w%3D86%26h%3D86%26yaw%3D303.988%26pitch%3D0%26thumbfov%3D100!7i16384!8i8192?entry=ttu | G6: 1 | H6: Nähe Friedhof
A7: Siedlerheim | B7: ja | C7: ja | D7: ja | E7: nein | F7: https://www.google.de/maps/place/Gro%C3%9F-Gerau+Siedlerheim/@49.9341719,8.4935184,17z/data=!4m10!1m2!2m1!1sbushaltestelle!3m6!1s0x47bd9d92aaa5913d:0xc20be88af8f826a0!8m2!3d49.93397!4d8.49461!15sCg5idXNoYWx0ZXN0ZWxsZZIBCGJ1c19zdG9w4AEA!16s%2Fg%2F11szr6q4qf?entry=ttu | G7: 9
A8: Am Atzelberg | B8: nein | C8: ja | D8: ja | E8: nein | F8: https://www.google.de/maps/@49.9354619,8.498085,3a,75y,201.27h,70.11t/data=!3m7!1e1!3m5!1s-4Td99BnBCUd1RJg3ubDlg!2e0!6shttps:%2F%2Fstreetviewpixels-pa.googleapis.com%2Fv1%2Fthumbnail%3Fpanoid%3D-4Td99BnBCUd1RJg3ubDlg%26cb_client%3Dsearch.gws-prod.gps%26w%3D86%26h%3D86%26yaw%3D168.45384%26pitch%3D0%26thumbfov%3D100!7i16384!8i8192?entry=ttu | G8: 3
A9: Mörfelder Straße | B9: nein | C9: nein | D9: nein | E9: nein | F9: https://www.google.de/maps/@49.9367567,8.4951322,3a,61y,9.18h,78.24t/data=!3m7!1e1!3m5!1sxE96Gl4fHBq4KD3m0kWOSQ!2e0!6shttps:%2F%2Fstreetviewpixels-pa.googleapis.com%2Fv1%2Fthumbnail%3Fpanoid%3DxE96Gl4fHBq4KD3m0kWOSQ%26cb_client%3Dsearch.gws-prod.gps%26w%3D86%26h%3D86%26yaw%3D15.09958%26pitch%3D0%26thumbfov%3D100!7i16384!8i8192?entry=ttu | G9: 1 | H9: geplant ist "Niederramstädter Heime"
A10: Münchner Straße (R. Osten) | B10: nein | C10: nein | D10: nein | E10: nein | F10: https://www.google.de/maps/@49.9350199,8.4909271,3a,75y,110.97h,83.99t/data=!3m7!1e1!3m5!1s9TbZQtTfuletK3CbtAxDFw!2e0!6shttps:%2F%2Fstreetviewpixels-pa.googleapis.com%2Fv1%2Fthumbnail%3Fpanoid%3D9TbZQtTfuletK3CbtAxDFw%26cb_client%3Dsearch.gws-prod.gps%26w%3D86%26h%3D86%26yaw%3D71.84175%26pitch%3D0%26thumbfov%3D100!7i16384!8i8192?entry=ttu | G10: 2
A11: Münchner Straße (R. Westen) | B11: nein | C11: ja | D11: ja | E11: nein | F11: https://www.google.de/maps/@49.9355475,8.4894188,3a,75y,182.67h,90t/data=!3m7!1e1!3m5!1s1AXwAhbmJN92fEo2dVE1hQ!2e0!6shttps:%2F%2Fstreetviewpixels-pa.googleapis.com%2Fv1%2Fthumbnail%3Fpanoid%3D1AXwAhbmJN92fEo2dVE1hQ%26cb_client%3Dsearch.gws-prod.gps%26w%3D86%26h%3D86%26yaw%3D182.66655%26pitch%3D0%26thumbfov%3D100!7i16384!8i8192?coh=205409&entry=ttu | G11: 2
A12: neue Haltestelle: Woogsdamm (R. Norden) | B12: nein | C12: nein | D12: nein | G12: 1 | H12: neue Haltestelle sinnvoll wegen geplantem Kindergarten Ahmadiyya
A13: neue Haltestelle: Woogsdamm (R. Süden) | B13: nein | C13: nein | D13: nein | G13: 1 | H13: neue Haltestelle sinnvoll wegen geplantem Kindergarten Ahmadiyya
A14: =COUNTA(Tabelle13456[[Haltestelle]]) -> 11 | B14: =COUNTIF(Tabelle13456[[Barrierefreiheit]],"ja") -> 3 | C14: =COUNTIF(Tabelle13456[[Sitzgelegenheit]],"ja") -> 5 | D14: =COUNTIF(Tabelle13456[[Witterungsschutz]],"ja") -> 5 | E14: =COUNTIF(Tabelle13456[[Foto]],"ja") -> 0
A15: Prozente | B15: =B14/A14 -> 0.27272727 | C15: =C14/A14 -> 0.45454545 | D15: =D14/A14 -> 0.45454545 | E15: =E14/A14 -> 0
